Package: countsimQC Version: 1.27.1 Command: /home/biocbuild/bbs-3.22-bioc/R/bin/R CMD build --keep-empty-dirs --no-resave-data --md5 countsimQC StartedAt: 2025-10-27 17:02:50 -0400 (Mon, 27 Oct 2025) EndedAt: 2025-10-27 17:05:08 -0400 (Mon, 27 Oct 2025) EllapsedTime: 138.1 seconds RetCode: 0 Status: OK PackageFile: countsimQC_1.27.1.tar.gz PackageFileSize: 442.1 KiB