Package: countsimQC Version: 1.27.1 Command: /Library/Frameworks/R.framework/Resources/bin/R CMD INSTALL countsimQC StartedAt: 2025-10-27 15:13:31 -0400 (Mon, 27 Oct 2025) EndedAt: 2025-10-27 15:13:44 -0400 (Mon, 27 Oct 2025) EllapsedTime: 12.7 seconds RetCode: 0 Status: OK