Package: countsimQC Version: 1.27.1 Command: /Library/Frameworks/R.framework/Resources/bin/R CMD build --keep-empty-dirs --no-resave-data countsimQC StartedAt: 2025-10-27 16:02:12 -0400 (Mon, 27 Oct 2025) EndedAt: 2025-10-27 16:03:10 -0400 (Mon, 27 Oct 2025) EllapsedTime: 58.6 seconds RetCode: 0 Status: OK PackageFile: countsimQC_1.27.1.tar.gz PackageFileSize: 440.7 KiB