Package: countsimQC Version: 1.27.1 Command: rm -rf countsimQC.buildbin-libdir && mkdir countsimQC.buildbin-libdir && /Users/biocbuild/BBS/utils/build-universal.sh countsimQC_1.27.1.tar.gz /Library/Frameworks/R.framework/Resources/bin/R countsimQC.buildbin-libdir StartedAt: 2025-10-26 22:32:54 -0400 (Sun, 26 Oct 2025) EndedAt: 2025-10-26 22:33:08 -0400 (Sun, 26 Oct 2025) EllapsedTime: 13.2 seconds RetCode: 0 Status: OK PackageFile: countsimQC_1.27.1.tgz PackageFileSize: 493.4 KiB