Package: countsimQC Version: 1.28.0 Maintainer: Charlotte Soneson MaintainerEmail: charlottesoneson at gmail.com git_url: https://git.bioconductor.org/packages/countsimQC git_branch: RELEASE_3_22 git_last_commit: 5ad5ec4 git_last_commit_date: 2025-10-29 10:47:52 -0500 (Wed, 29 Oct 2025)