Package: cosmosR Version: 1.18.0 Command: /Library/Frameworks/R.framework/Resources/bin/R CMD INSTALL cosmosR StartedAt: 2025-10-30 15:09:39 -0400 (Thu, 30 Oct 2025) EndedAt: 2025-10-30 15:09:43 -0400 (Thu, 30 Oct 2025) EllapsedTime: 3.3 seconds RetCode: 0 Status: OK