Package: cosmosR Version: 1.18.0 Command: rm -rf cosmosR.buildbin-libdir && mkdir cosmosR.buildbin-libdir && /Users/biocbuild/BBS/utils/build-universal.sh cosmosR_1.18.0.tar.gz /Library/Frameworks/R.framework/Resources/bin/R cosmosR.buildbin-libdir StartedAt: 2025-10-30 05:20:42 -0400 (Thu, 30 Oct 2025) EndedAt: 2025-10-30 05:20:46 -0400 (Thu, 30 Oct 2025) EllapsedTime: 4.1 seconds RetCode: 0 Status: OK PackageFile: cosmosR_1.18.0.tgz PackageFileSize: 3.451 MiB