Package: cosmiq Version: 1.43.0 Command: /home/biocbuild/bbs-3.22-bioc/R/bin/R CMD build --keep-empty-dirs --no-resave-data --md5 cosmiq StartedAt: 2025-10-24 17:10:57 -0400 (Fri, 24 Oct 2025) EndedAt: 2025-10-24 17:13:24 -0400 (Fri, 24 Oct 2025) EllapsedTime: 147.1 seconds RetCode: 0 Status: OK PackageFile: cosmiq_1.43.0.tar.gz PackageFileSize: 542.8 KiB