Package: cosmiq Version: 1.44.0 Command: /Library/Frameworks/R.framework/Resources/bin/R CMD INSTALL cosmiq StartedAt: 2025-10-29 21:46:11 -0400 (Wed, 29 Oct 2025) EndedAt: 2025-10-29 21:46:29 -0400 (Wed, 29 Oct 2025) EllapsedTime: 17.3 seconds RetCode: 0 Status: OK