Package: cosmiq Version: 1.44.0 Command: /Library/Frameworks/R.framework/Resources/bin/R CMD build --keep-empty-dirs --no-resave-data cosmiq StartedAt: 2025-10-29 22:24:08 -0400 (Wed, 29 Oct 2025) EndedAt: 2025-10-29 22:25:18 -0400 (Wed, 29 Oct 2025) EllapsedTime: 69.8 seconds RetCode: 0 Status: OK PackageFile: cosmiq_1.44.0.tar.gz PackageFileSize: 540.7 KiB