Package: cosmiq Version: 1.44.0 Command: rm -rf cosmiq.buildbin-libdir && mkdir cosmiq.buildbin-libdir && /Users/biocbuild/BBS/utils/build-universal.sh cosmiq_1.44.0.tar.gz /Library/Frameworks/R.framework/Resources/bin/R cosmiq.buildbin-libdir StartedAt: 2025-10-30 05:20:42 -0400 (Thu, 30 Oct 2025) EndedAt: 2025-10-30 05:21:01 -0400 (Thu, 30 Oct 2025) EllapsedTime: 18.4 seconds RetCode: 0 Status: OK PackageFile: cosmiq_1.44.0.tgz PackageFileSize: 290.6 KiB