Package: coseq Version: 1.33.0 Command: /home/biocbuild/bbs-3.22-bioc/R/bin/R CMD INSTALL coseq StartedAt: 2025-10-24 15:32:32 -0400 (Fri, 24 Oct 2025) EndedAt: 2025-10-24 15:33:04 -0400 (Fri, 24 Oct 2025) EllapsedTime: 31.6 seconds RetCode: 0 Status: OK