Package: coseq Version: 1.33.0 Command: /home/biocbuild/bbs-3.22-bioc/R/bin/R CMD build --keep-empty-dirs --no-resave-data --md5 coseq StartedAt: 2025-10-24 17:10:30 -0400 (Fri, 24 Oct 2025) EndedAt: 2025-10-24 17:14:36 -0400 (Fri, 24 Oct 2025) EllapsedTime: 246.2 seconds RetCode: 0 Status: OK PackageFile: coseq_1.33.0.tar.gz PackageFileSize: 1.907 MiB