Package: coseq Version: 1.34.0 Command: /Library/Frameworks/R.framework/Resources/bin/R CMD build --keep-empty-dirs --no-resave-data coseq StartedAt: 2025-11-10 16:01:54 -0500 (Mon, 10 Nov 2025) EndedAt: 2025-11-10 16:03:38 -0500 (Mon, 10 Nov 2025) EllapsedTime: 103.2 seconds RetCode: 0 Status: OK PackageFile: coseq_1.34.0.tar.gz PackageFileSize: 1.847 MiB