Package: corral Version: 1.20.0 Command: /home/biocbuild/bbs-3.22-bioc/R/bin/R CMD INSTALL corral StartedAt: 2025-10-30 15:36:09 -0400 (Thu, 30 Oct 2025) EndedAt: 2025-10-30 15:36:37 -0400 (Thu, 30 Oct 2025) EllapsedTime: 28.4 seconds RetCode: 0 Status: OK