Package: conumee Version: 1.43.1 Command: /home/biocbuild/bbs-3.22-bioc/R/bin/R CMD build --keep-empty-dirs --no-resave-data --md5 conumee StartedAt: 2025-10-24 17:09:06 -0400 (Fri, 24 Oct 2025) EndedAt: 2025-10-24 17:15:28 -0400 (Fri, 24 Oct 2025) EllapsedTime: 382.3 seconds RetCode: 0 Status: OK PackageFile: conumee_1.43.1.tar.gz PackageFileSize: 1.249 MiB