Package: consensusSeekeR Version: 1.37.3 Command: /home/biocbuild/bbs-3.22-bioc/R/bin/R CMD INSTALL consensusSeekeR StartedAt: 2025-10-24 15:38:13 -0400 (Fri, 24 Oct 2025) EndedAt: 2025-10-24 15:38:43 -0400 (Fri, 24 Oct 2025) EllapsedTime: 29.5 seconds RetCode: 0 Status: OK