Package: consensusSeekeR Version: 1.37.3 Command: /home/biocbuild/bbs-3.22-bioc/R/bin/R CMD build --keep-empty-dirs --no-resave-data --md5 consensusSeekeR StartedAt: 2025-10-24 17:08:42 -0400 (Fri, 24 Oct 2025) EndedAt: 2025-10-24 17:10:27 -0400 (Fri, 24 Oct 2025) EllapsedTime: 105.1 seconds RetCode: 0 Status: OK PackageFile: consensusSeekeR_1.37.3.tar.gz PackageFileSize: 741.8 KiB