Package: consensusSeekeR Version: 1.38.0 Command: /Library/Frameworks/R.framework/Resources/bin/R CMD INSTALL consensusSeekeR StartedAt: 2025-11-10 15:16:51 -0500 (Mon, 10 Nov 2025) EndedAt: 2025-11-10 15:17:03 -0500 (Mon, 10 Nov 2025) EllapsedTime: 12.0 seconds RetCode: 0 Status: OK