Package: consensusSeekeR Version: 1.38.0 Command: /Library/Frameworks/R.framework/Resources/bin/R CMD build --keep-empty-dirs --no-resave-data consensusSeekeR StartedAt: 2025-11-10 16:01:04 -0500 (Mon, 10 Nov 2025) EndedAt: 2025-11-10 16:01:24 -0500 (Mon, 10 Nov 2025) EllapsedTime: 20.2 seconds RetCode: 0 Status: OK PackageFile: consensusSeekeR_1.38.0.tar.gz PackageFileSize: 739.3 KiB