Package: consensus Version: 1.27.0 Command: /home/biocbuild/bbs-3.22-bioc/R/bin/R CMD build --keep-empty-dirs --no-resave-data --md5 consensus StartedAt: 2025-10-24 17:08:29 -0400 (Fri, 24 Oct 2025) EndedAt: 2025-10-24 17:08:36 -0400 (Fri, 24 Oct 2025) EllapsedTime: 7.0 seconds RetCode: 0 Status: OK PackageFile: consensus_1.27.0.tar.gz PackageFileSize: 971.9 KiB