Package: condiments Version: 1.17.0 Command: /Library/Frameworks/R.framework/Resources/bin/R CMD INSTALL condiments StartedAt: 2025-10-28 15:53:12 -0400 (Tue, 28 Oct 2025) EndedAt: 2025-10-28 15:53:58 -0400 (Tue, 28 Oct 2025) EllapsedTime: 46.0 seconds RetCode: 0 Status: OK