Package: condiments Version: 1.17.0 Command: rm -rf condiments.buildbin-libdir && mkdir condiments.buildbin-libdir && /Users/biocbuild/BBS/utils/build-universal.sh condiments_1.17.0.tar.gz /Library/Frameworks/R.framework/Resources/bin/R condiments.buildbin-libdir StartedAt: 2025-10-29 01:28:59 -0400 (Wed, 29 Oct 2025) EndedAt: 2025-10-29 01:29:52 -0400 (Wed, 29 Oct 2025) EllapsedTime: 52.9 seconds RetCode: 0 Status: OK PackageFile: condiments_1.17.0.tgz PackageFileSize: 2.332 MiB