Package: condiments Version: 1.17.0 Command: /Library/Frameworks/R.framework/Resources/bin/R CMD INSTALL condiments StartedAt: 2025-10-24 15:33:48 -0400 (Fri, 24 Oct 2025) EndedAt: 2025-10-24 15:34:03 -0400 (Fri, 24 Oct 2025) EllapsedTime: 14.6 seconds RetCode: 0 Status: OK