Package: condiments Version: 1.17.0 Command: /Library/Frameworks/R.framework/Resources/bin/R CMD build --keep-empty-dirs --no-resave-data condiments StartedAt: 2025-10-24 16:03:28 -0400 (Fri, 24 Oct 2025) EndedAt: 2025-10-24 16:04:48 -0400 (Fri, 24 Oct 2025) EllapsedTime: 79.9 seconds RetCode: 0 Status: OK PackageFile: condiments_1.17.0.tar.gz PackageFileSize: 2.251 MiB