Package: condiments Version: 1.17.0 Command: rm -rf condiments.buildbin-libdir && mkdir condiments.buildbin-libdir && /Users/biocbuild/BBS/utils/build-universal.sh condiments_1.17.0.tar.gz /Library/Frameworks/R.framework/Resources/bin/R condiments.buildbin-libdir StartedAt: 2025-10-24 22:58:42 -0400 (Fri, 24 Oct 2025) EndedAt: 2025-10-24 22:58:57 -0400 (Fri, 24 Oct 2025) EllapsedTime: 15.3 seconds RetCode: 0 Status: OK PackageFile: condiments_1.17.0.tgz PackageFileSize: 2.343 MiB