Package: concordexR Version: 1.10.0 Command: /Library/Frameworks/R.framework/Resources/bin/R CMD INSTALL concordexR StartedAt: 2025-11-10 15:16:01 -0500 (Mon, 10 Nov 2025) EndedAt: 2025-11-10 15:16:12 -0500 (Mon, 10 Nov 2025) EllapsedTime: 10.7 seconds RetCode: 0 Status: OK