Package: concordexR Version: 1.10.0 Command: rm -rf concordexR.buildbin-libdir && mkdir concordexR.buildbin-libdir && /Users/biocbuild/BBS/utils/build-universal.sh concordexR_1.10.0.tar.gz /Library/Frameworks/R.framework/Resources/bin/R concordexR.buildbin-libdir StartedAt: 2025-11-10 23:15:50 -0500 (Mon, 10 Nov 2025) EndedAt: 2025-11-10 23:16:01 -0500 (Mon, 10 Nov 2025) EllapsedTime: 11.2 seconds RetCode: 0 Status: OK PackageFile: concordexR_1.10.0.tgz PackageFileSize: 1.563 MiB