Package: compcodeR Version: 1.45.0 Command: /home/biocbuild/R/R/bin/R CMD INSTALL compcodeR StartedAt: 2025-10-23 20:25:02 -0000 (Thu, 23 Oct 2025) EndedAt: 2025-10-23 20:25:50 -0000 (Thu, 23 Oct 2025) EllapsedTime: 48.2 seconds RetCode: 0 Status: OK