Package: compcodeR Version: 1.45.0 Command: /home/biocbuild/R/R/bin/R CMD check --install=check:compcodeR.install-out.txt --library=/home/biocbuild/R/R/site-library --no-vignettes --timings compcodeR_1.45.0.tar.gz StartedAt: 2025-10-21 06:44:47 -0000 (Tue, 21 Oct 2025) EndedAt: 2025-10-21 06:52:20 -0000 (Tue, 21 Oct 2025) EllapsedTime: 453.3 seconds RetCode: 0 Status: OK CheckDir: compcodeR.Rcheck Warnings: 0