Package: compcodeR Version: 1.45.0 Command: /Library/Frameworks/R.framework/Resources/bin/R CMD INSTALL compcodeR StartedAt: 2025-10-24 15:18:00 -0400 (Fri, 24 Oct 2025) EndedAt: 2025-10-24 15:18:37 -0400 (Fri, 24 Oct 2025) EllapsedTime: 37.0 seconds RetCode: 0 Status: OK