Package: compcodeR Version: 1.45.0 Command: /Library/Frameworks/R.framework/Resources/bin/R CMD check --install=check:compcodeR.install-out.txt --library=/Library/Frameworks/R.framework/Resources/library --no-vignettes --timings compcodeR_1.45.0.tar.gz StartedAt: 2025-10-24 20:20:54 -0400 (Fri, 24 Oct 2025) EndedAt: 2025-10-24 20:29:23 -0400 (Fri, 24 Oct 2025) EllapsedTime: 509.3 seconds RetCode: 0 Status: OK CheckDir: compcodeR.Rcheck Warnings: 0