Package: compcodeR Version: 1.45.0 Command: /Library/Frameworks/R.framework/Resources/bin/R CMD build --keep-empty-dirs --no-resave-data compcodeR StartedAt: 2025-10-24 16:37:14 -0400 (Fri, 24 Oct 2025) EndedAt: 2025-10-24 16:37:44 -0400 (Fri, 24 Oct 2025) EllapsedTime: 29.7 seconds RetCode: 0 Status: OK PackageFile: compcodeR_1.45.0.tar.gz PackageFileSize: 4.74 MiB