Package: compcodeR Version: 1.45.0 Command: rm -rf compcodeR.buildbin-libdir && mkdir compcodeR.buildbin-libdir && /Users/biocbuild/BBS/utils/build-universal.sh compcodeR_1.45.0.tar.gz /Library/Frameworks/R.framework/Resources/bin/R compcodeR.buildbin-libdir StartedAt: 2025-10-24 22:58:35 -0400 (Fri, 24 Oct 2025) EndedAt: 2025-10-24 22:58:41 -0400 (Fri, 24 Oct 2025) EllapsedTime: 6.1 seconds RetCode: 0 Status: OK PackageFile: compcodeR_1.45.0.tgz PackageFileSize: 2.709 MiB