Package: compSPOT Version: 1.7.0 Command: /home/biocbuild/bbs-3.22-bioc/R/bin/R CMD INSTALL compSPOT StartedAt: 2025-10-27 15:11:48 -0400 (Mon, 27 Oct 2025) EndedAt: 2025-10-27 15:12:01 -0400 (Mon, 27 Oct 2025) EllapsedTime: 13.1 seconds RetCode: 0 Status: OK