Package: compSPOT Version: 1.7.0 Command: /home/biocbuild/bbs-3.22-bioc/R/bin/R CMD check --install=check:compSPOT.install-out.txt --library=/home/biocbuild/bbs-3.22-bioc/R/site-library --timings compSPOT_1.7.0.tar.gz StartedAt: 2025-10-27 22:19:22 -0400 (Mon, 27 Oct 2025) EndedAt: 2025-10-27 22:22:47 -0400 (Mon, 27 Oct 2025) EllapsedTime: 205.2 seconds RetCode: 0 Status: OK CheckDir: compSPOT.Rcheck Warnings: 0