Package: compSPOT Version: 1.8.0 Command: /Library/Frameworks/R.framework/Resources/bin/R CMD check --install=check:compSPOT.install-out.txt --library=/Library/Frameworks/R.framework/Resources/library --no-vignettes --timings compSPOT_1.8.0.tar.gz StartedAt: 2025-10-31 19:10:04 -0400 (Fri, 31 Oct 2025) EndedAt: 2025-10-31 19:11:26 -0400 (Fri, 31 Oct 2025) EllapsedTime: 81.9 seconds RetCode: 0 Status: OK CheckDir: compSPOT.Rcheck Warnings: 0