Package: compSPOT Version: 1.7.0 Command: rm -rf compSPOT.buildbin-libdir && mkdir compSPOT.buildbin-libdir && /Users/biocbuild/BBS/utils/build-universal.sh compSPOT_1.7.0.tar.gz /Library/Frameworks/R.framework/Resources/bin/R compSPOT.buildbin-libdir StartedAt: 2025-10-27 22:58:10 -0400 (Mon, 27 Oct 2025) EndedAt: 2025-10-27 22:58:13 -0400 (Mon, 27 Oct 2025) EllapsedTime: 3.1 seconds RetCode: 0 Status: OK PackageFile: compSPOT_1.7.0.tgz PackageFileSize: 466.4 KiB