Package: compEpiTools Version: 1.43.1 Command: /home/biocbuild/R/R/bin/R CMD build --keep-empty-dirs --no-resave-data compEpiTools StartedAt: 2025-10-20 22:53:29 -0000 (Mon, 20 Oct 2025) EndedAt: 2025-10-20 22:55:27 -0000 (Mon, 20 Oct 2025) EllapsedTime: 118.1 seconds RetCode: 0 Status: OK PackageFile: compEpiTools_1.43.1.tar.gz PackageFileSize: 2.16 MiB