Package: compEpiTools Version: 1.43.1 Command: /home/biocbuild/bbs-3.22-bioc/R/bin/R CMD INSTALL compEpiTools StartedAt: 2025-10-27 15:54:59 -0400 (Mon, 27 Oct 2025) EndedAt: 2025-10-27 15:55:59 -0400 (Mon, 27 Oct 2025) EllapsedTime: 59.4 seconds RetCode: 0 Status: OK