Package: compEpiTools Version: 1.43.1 Command: /home/biocbuild/bbs-3.22-bioc/R/bin/R CMD check --install=check:compEpiTools.install-out.txt --library=/home/biocbuild/bbs-3.22-bioc/R/site-library --timings compEpiTools_1.43.1.tar.gz StartedAt: 2025-10-27 22:18:47 -0400 (Mon, 27 Oct 2025) EndedAt: 2025-10-27 22:26:16 -0400 (Mon, 27 Oct 2025) EllapsedTime: 448.5 seconds RetCode: 0 Status: OK CheckDir: compEpiTools.Rcheck Warnings: 0