Package: compEpiTools Version: 1.43.1 Command: rm -rf compEpiTools.buildbin-libdir && mkdir compEpiTools.buildbin-libdir && /Users/biocbuild/BBS/utils/build-universal.sh compEpiTools_1.43.1.tar.gz /Library/Frameworks/R.framework/Resources/bin/R compEpiTools.buildbin-libdir StartedAt: 2025-10-28 02:05:58 -0400 (Tue, 28 Oct 2025) EndedAt: 2025-10-28 02:07:22 -0400 (Tue, 28 Oct 2025) EllapsedTime: 83.3 seconds RetCode: 0 Status: OK PackageFile: compEpiTools_1.43.1.tgz PackageFileSize: 2.345 MiB