Package: compEpiTools Version: 1.43.1 Command: /Library/Frameworks/R.framework/Resources/bin/R CMD INSTALL compEpiTools StartedAt: 2025-10-27 15:26:05 -0400 (Mon, 27 Oct 2025) EndedAt: 2025-10-27 15:26:29 -0400 (Mon, 27 Oct 2025) EllapsedTime: 23.8 seconds RetCode: 0 Status: OK