Package: combi Version: 1.21.0 Command: /home/biocbuild/bbs-3.22-bioc/R/bin/R CMD build --keep-empty-dirs --no-resave-data --md5 combi StartedAt: 2025-10-27 16:58:58 -0400 (Mon, 27 Oct 2025) EndedAt: 2025-10-27 17:00:53 -0400 (Mon, 27 Oct 2025) EllapsedTime: 115.2 seconds RetCode: 0 Status: OK PackageFile: combi_1.21.0.tar.gz PackageFileSize: 1.412 MiB