Package: comapr Version: 1.14.0 Command: /Library/Frameworks/R.framework/Resources/bin/R CMD INSTALL comapr StartedAt: 2025-11-03 15:46:36 -0500 (Mon, 03 Nov 2025) EndedAt: 2025-11-03 15:47:47 -0500 (Mon, 03 Nov 2025) EllapsedTime: 70.9 seconds RetCode: 0 Status: OK