Package: comapr Version: 1.14.0 Command: /Library/Frameworks/R.framework/Resources/bin/R CMD build --keep-empty-dirs --no-resave-data comapr StartedAt: 2025-11-03 16:32:51 -0500 (Mon, 03 Nov 2025) EndedAt: 2025-11-03 16:34:30 -0500 (Mon, 03 Nov 2025) EllapsedTime: 99.3 seconds RetCode: 0 Status: OK PackageFile: comapr_1.14.0.tar.gz PackageFileSize: 981.4 KiB