Package: comapr Version: 1.13.0 Command: /Library/Frameworks/R.framework/Resources/bin/R CMD build --keep-empty-dirs --no-resave-data comapr StartedAt: 2025-10-24 16:02:53 -0400 (Fri, 24 Oct 2025) EndedAt: 2025-10-24 16:03:29 -0400 (Fri, 24 Oct 2025) EllapsedTime: 35.4 seconds RetCode: 0 Status: OK PackageFile: comapr_1.13.0.tar.gz PackageFileSize: 981.7 KiB