Package: cola Version: 2.15.0 Command: /home/biocbuild/bbs-3.22-bioc/R/bin/R CMD INSTALL cola StartedAt: 2025-10-24 15:25:18 -0400 (Fri, 24 Oct 2025) EndedAt: 2025-10-24 15:25:47 -0400 (Fri, 24 Oct 2025) EllapsedTime: 29.5 seconds RetCode: 0 Status: OK