Package: cogena Version: 1.43.0 Command: /home/biocbuild/bbs-3.22-bioc/R/bin/R CMD build --keep-empty-dirs --no-resave-data --md5 cogena StartedAt: 2025-10-27 16:57:49 -0400 (Mon, 27 Oct 2025) EndedAt: 2025-10-27 17:00:27 -0400 (Mon, 27 Oct 2025) EllapsedTime: 158.2 seconds RetCode: 0 Status: OK PackageFile: cogena_1.43.0.tar.gz PackageFileSize: 7.334 MiB