Package: cogena Version: 1.43.0 Command: /Library/Frameworks/R.framework/Resources/bin/R CMD build --keep-empty-dirs --no-resave-data cogena StartedAt: 2025-10-28 16:00:00 -0400 (Tue, 28 Oct 2025) EndedAt: 2025-10-28 16:01:19 -0400 (Tue, 28 Oct 2025) EllapsedTime: 78.9 seconds RetCode: 0 Status: OK PackageFile: cogena_1.43.0.tar.gz PackageFileSize: 7.508 MiB